Package: GenomicFiles Version: 1.40.0 Command: /Library/Frameworks/R.framework/Resources/bin/R CMD build --keep-empty-dirs --no-resave-data GenomicFiles StartedAt: 2024-10-17 01:07:12 -0400 (Thu, 17 Oct 2024) EndedAt: 2024-10-17 01:08:44 -0400 (Thu, 17 Oct 2024) EllapsedTime: 92.4 seconds RetCode: 0 Status: OK PackageFile: GenomicFiles_1.40.0.tar.gz PackageFileSize: 712.5 KiB