Package: GenomicFiles Version: 1.40.0 Command: /Library/Frameworks/R.framework/Resources/bin/R CMD build --keep-empty-dirs --no-resave-data GenomicFiles StartedAt: 2024-10-16 19:30:26 -0400 (Wed, 16 Oct 2024) EndedAt: 2024-10-16 19:33:30 -0400 (Wed, 16 Oct 2024) EllapsedTime: 184.1 seconds RetCode: 0 Status: OK PackageFile: GenomicFiles_1.40.0.tar.gz PackageFileSize: 712.4 KiB