Package: GenomicFiles Version: 1.40.0 Command: /Library/Frameworks/R.framework/Resources/bin/R CMD check --install=check:GenomicFiles.install-out.txt --library=/Library/Frameworks/R.framework/Resources/library --no-vignettes --timings GenomicFiles_1.40.0.tar.gz StartedAt: 2024-10-17 05:49:54 -0400 (Thu, 17 Oct 2024) EndedAt: 2024-10-17 06:04:17 -0400 (Thu, 17 Oct 2024) EllapsedTime: 862.9 seconds RetCode: 0 Status: WARNINGS CheckDir: GenomicFiles.Rcheck Warnings: 1