Package: GenomicFiles Version: 1.40.0 Command: /home/biocbuild/bbs-3.19-bioc/R/bin/R CMD build --keep-empty-dirs --no-resave-data GenomicFiles StartedAt: 2024-10-16 18:39:26 -0400 (Wed, 16 Oct 2024) EndedAt: 2024-10-16 18:40:37 -0400 (Wed, 16 Oct 2024) EllapsedTime: 71.1 seconds RetCode: 0 Status: OK PackageFile: GenomicFiles_1.40.0.tar.gz PackageFileSize: 712.5 KiB