Package: GenomicFiles Version: 1.40.0 Command: /home/biocbuild/bbs-3.19-bioc/R/bin/R CMD INSTALL GenomicFiles StartedAt: 2024-10-16 16:08:37 -0400 (Wed, 16 Oct 2024) EndedAt: 2024-10-16 16:09:18 -0400 (Wed, 16 Oct 2024) EllapsedTime: 40.5 seconds RetCode: 0 Status: OK