Package: GenomicFiles Version: 1.40.0 Command: chmod a+r GenomicFiles -R && F:\biocbuild\bbs-3.19-bioc\R\bin\R.exe CMD build --keep-empty-dirs --no-resave-data GenomicFiles StartedAt: 2024-06-26 19:08:06 -0400 (Wed, 26 Jun 2024) EndedAt: 2024-06-26 19:12:25 -0400 (Wed, 26 Jun 2024) EllapsedTime: 258.9 seconds RetCode: 0 Status: OK PackageFile: GenomicFiles_1.40.0.tar.gz PackageFileSize: 712.8 KiB