Package: GenomicFiles Version: 1.40.0 Command: chmod a+r GenomicFiles -R && E:\biocbuild\bbs-3.19-bioc\R\bin\R.exe CMD build --keep-empty-dirs --no-resave-data GenomicFiles StartedAt: 2024-10-16 19:23:10 -0400 (Wed, 16 Oct 2024) EndedAt: 2024-10-16 19:26:40 -0400 (Wed, 16 Oct 2024) EllapsedTime: 210.1 seconds RetCode: 0 Status: OK PackageFile: GenomicFiles_1.40.0.tar.gz PackageFileSize: 712.8 KiB