Package: GenomicOZone Version: 1.18.0 Command: rm -rf GenomicOZone.buildbin-libdir && mkdir GenomicOZone.buildbin-libdir && /Users/biocbuild/BBS/utils/build-universal.sh GenomicOZone_1.18.0.tar.gz /Library/Frameworks/R.framework/Resources/bin/R GenomicOZone.buildbin-libdir StartedAt: 2024-06-11 11:23:47 -0400 (Tue, 11 Jun 2024) EndedAt: 2024-06-11 11:25:39 -0400 (Tue, 11 Jun 2024) EllapsedTime: 112.2 seconds RetCode: 0 Status: OK PackageFile: GenomicOZone_1.18.0.tgz PackageFileSize: 1.327 MiB