Package: GenomicOZone Version: 1.18.0 Command: /Library/Frameworks/R.framework/Resources/bin/R CMD build --keep-empty-dirs --no-resave-data GenomicOZone StartedAt: 2024-06-09 16:46:16 -0400 (Sun, 09 Jun 2024) EndedAt: 2024-06-09 16:48:40 -0400 (Sun, 09 Jun 2024) EllapsedTime: 143.2 seconds RetCode: 0 Status: OK PackageFile: GenomicOZone_1.18.0.tar.gz PackageFileSize: 1.275 MiB