Package: GenomicOZone Version: 1.18.0 Command: rm -rf GenomicOZone.buildbin-libdir && mkdir GenomicOZone.buildbin-libdir && /Users/biocbuild/BBS/utils/build-universal.sh GenomicOZone_1.18.0.tar.gz /Library/Frameworks/R.framework/Resources/bin/R GenomicOZone.buildbin-libdir StartedAt: 2024-10-17 16:14:34 -0400 (Thu, 17 Oct 2024) EndedAt: 2024-10-17 16:16:34 -0400 (Thu, 17 Oct 2024) EllapsedTime: 120.0 seconds RetCode: 0 Status: OK PackageFile: GenomicOZone_1.18.0.tgz PackageFileSize: 1.326 MiB