Package: GenomicOZone Version: 1.18.0 Command: /Library/Frameworks/R.framework/Resources/bin/R CMD build --keep-empty-dirs --no-resave-data GenomicOZone StartedAt: 2024-10-16 19:31:37 -0400 (Wed, 16 Oct 2024) EndedAt: 2024-10-16 19:36:56 -0400 (Wed, 16 Oct 2024) EllapsedTime: 319.4 seconds RetCode: 0 Status: OK PackageFile: GenomicOZone_1.18.0.tar.gz PackageFileSize: 1.275 MiB