Package: GenomicOZone Version: 1.18.0 Command: /home/biocbuild/bbs-3.19-bioc/R/bin/R CMD check --install=check:GenomicOZone.install-out.txt --library=/home/biocbuild/bbs-3.19-bioc/R/site-library --timings GenomicOZone_1.18.0.tar.gz StartedAt: 2024-10-17 00:46:31 -0400 (Thu, 17 Oct 2024) EndedAt: 2024-10-17 00:53:14 -0400 (Thu, 17 Oct 2024) EllapsedTime: 403.7 seconds RetCode: 0 Status: OK CheckDir: GenomicOZone.Rcheck Warnings: 0