Package: GenomicOZone Version: 1.18.0 Command: chmod a+r GenomicOZone -R && F:\biocbuild\bbs-3.19-bioc\R\bin\R.exe CMD build --keep-empty-dirs --no-resave-data GenomicOZone StartedAt: 2024-06-26 19:08:25 -0400 (Wed, 26 Jun 2024) EndedAt: 2024-06-26 19:11:08 -0400 (Wed, 26 Jun 2024) EllapsedTime: 163.3 seconds RetCode: 0 Status: OK PackageFile: GenomicOZone_1.18.0.tar.gz PackageFileSize: 1.275 MiB