Package: GenomicSuperSignature Version: 1.12.0 Maintainer: Sehyun Oh MaintainerEmail: shbrief at gmail.com git_url: https://git.bioconductor.org/packages/GenomicSuperSignature git_branch: RELEASE_3_19 git_last_commit: 60447da git_last_commit_date: 2024-04-30 11:35:04 -0400 (Tue, 30 Apr 2024)