Package: GenomicSuperSignature Version: 1.12.0 Command: rm -rf GenomicSuperSignature.buildbin-libdir && mkdir GenomicSuperSignature.buildbin-libdir && /Users/biocbuild/BBS/utils/build-universal.sh GenomicSuperSignature_1.12.0.tar.gz /Library/Frameworks/R.framework/Resources/bin/R GenomicSuperSignature.buildbin-libdir StartedAt: 2024-10-18 18:41:33 -0400 (Fri, 18 Oct 2024) EndedAt: 2024-10-18 18:42:19 -0400 (Fri, 18 Oct 2024) EllapsedTime: 45.9 seconds RetCode: 0 Status: OK PackageFile: GenomicSuperSignature_1.12.0.tgz PackageFileSize: 7.004 MiB