Package: GenomicSuperSignature Version: 1.12.0 Command: /Library/Frameworks/R.framework/Resources/bin/R CMD check --install=check:GenomicSuperSignature.install-out.txt --library=/Library/Frameworks/R.framework/Resources/library --no-vignettes --timings GenomicSuperSignature_1.12.0.tar.gz StartedAt: 2024-10-17 22:59:56 -0400 (Thu, 17 Oct 2024) EndedAt: 2024-10-17 23:05:12 -0400 (Thu, 17 Oct 2024) EllapsedTime: 315.2 seconds RetCode: 0 Status: WARNINGS CheckDir: GenomicSuperSignature.Rcheck Warnings: 2