Package: GenomicSuperSignature Version: 1.12.0 Command: /Library/Frameworks/R.framework/Resources/bin/R CMD INSTALL GenomicSuperSignature StartedAt: 2024-10-16 18:48:47 -0400 (Wed, 16 Oct 2024) EndedAt: 2024-10-16 18:49:23 -0400 (Wed, 16 Oct 2024) EllapsedTime: 35.7 seconds RetCode: 0 Status: OK