Package: GenomicSuperSignature Version: 1.12.0 Command: /Library/Frameworks/R.framework/Resources/bin/R CMD build --keep-empty-dirs --no-resave-data GenomicSuperSignature StartedAt: 2024-06-09 22:06:41 -0400 (Sun, 09 Jun 2024) EndedAt: 2024-06-09 22:09:09 -0400 (Sun, 09 Jun 2024) EllapsedTime: 148.3 seconds RetCode: 0 Status: OK PackageFile: GenomicSuperSignature_1.12.0.tar.gz PackageFileSize: 6.356 MiB