Package: GenomicSuperSignature Version: 1.12.0 Command: /home/biocbuild/R/R-beta-2024-04-15_r86425/bin/R CMD INSTALL GenomicSuperSignature StartedAt: 2024-05-08 21:03:48 -0000 (Wed, 08 May 2024) EndedAt: 2024-05-08 21:04:29 -0000 (Wed, 08 May 2024) EllapsedTime: 40.6 seconds RetCode: 0 Status: OK