Package: GenomicSuperSignature Version: 1.12.0 Command: /Library/Frameworks/R.framework/Resources/bin/R CMD INSTALL GenomicSuperSignature StartedAt: 2024-10-16 16:45:52 -0400 (Wed, 16 Oct 2024) EndedAt: 2024-10-16 16:47:01 -0400 (Wed, 16 Oct 2024) EllapsedTime: 69.0 seconds RetCode: 0 Status: OK