Package: GenomicSuperSignature Version: 1.12.0 Command: /home/biocbuild/bbs-3.19-bioc/R/bin/R CMD build --keep-empty-dirs --no-resave-data GenomicSuperSignature StartedAt: 2024-10-16 18:40:34 -0400 (Wed, 16 Oct 2024) EndedAt: 2024-10-16 18:45:50 -0400 (Wed, 16 Oct 2024) EllapsedTime: 316.7 seconds RetCode: 0 Status: OK PackageFile: GenomicSuperSignature_1.12.0.tar.gz PackageFileSize: 6.24 MiB