Package: GenomicSuperSignature Version: 1.12.0 Command: /home/biocbuild/bbs-3.19-bioc/R/bin/R CMD check --install=check:GenomicSuperSignature.install-out.txt --library=/home/biocbuild/bbs-3.19-bioc/R/site-library --timings GenomicSuperSignature_1.12.0.tar.gz StartedAt: 2024-10-17 00:50:06 -0400 (Thu, 17 Oct 2024) EndedAt: 2024-10-17 01:00:14 -0400 (Thu, 17 Oct 2024) EllapsedTime: 608.3 seconds RetCode: 0 Status: WARNINGS CheckDir: GenomicSuperSignature.Rcheck Warnings: 2