Package: GenomicSuperSignature Version: 1.12.0 Command: rm -rf GenomicSuperSignature.buildbin-libdir && mkdir GenomicSuperSignature.buildbin-libdir && F:\biocbuild\bbs-3.19-bioc\R\bin\R.exe CMD INSTALL --build --library=GenomicSuperSignature.buildbin-libdir GenomicSuperSignature_1.12.0.tar.gz StartedAt: 2024-06-27 08:16:34 -0400 (Thu, 27 Jun 2024) EndedAt: 2024-06-27 08:17:25 -0400 (Thu, 27 Jun 2024) EllapsedTime: 50.6 seconds RetCode: 0 Status: OK PackageFile: GenomicSuperSignature_1.12.0.zip PackageFileSize: 6.61 MiB