Package: GenomicSuperSignature Version: 1.12.0 Command: chmod a+r GenomicSuperSignature -R && F:\biocbuild\bbs-3.19-bioc\R\bin\R.exe CMD build --keep-empty-dirs --no-resave-data GenomicSuperSignature StartedAt: 2024-06-26 19:08:48 -0400 (Wed, 26 Jun 2024) EndedAt: 2024-06-26 19:10:19 -0400 (Wed, 26 Jun 2024) EllapsedTime: 91.7 seconds RetCode: 0 Status: OK PackageFile: GenomicSuperSignature_1.12.0.tar.gz PackageFileSize: 5.967 MiB