Package: GenomicSuperSignature Version: 1.12.0 Command: rm -rf GenomicSuperSignature.buildbin-libdir && mkdir GenomicSuperSignature.buildbin-libdir && E:\biocbuild\bbs-3.19-bioc\R\bin\R.exe CMD INSTALL --build --library=GenomicSuperSignature.buildbin-libdir GenomicSuperSignature_1.12.0.tar.gz StartedAt: 2024-10-17 07:52:08 -0400 (Thu, 17 Oct 2024) EndedAt: 2024-10-17 07:55:15 -0400 (Thu, 17 Oct 2024) EllapsedTime: 186.8 seconds RetCode: 0 Status: OK PackageFile: GenomicSuperSignature_1.12.0.zip PackageFileSize: 6.61 MiB