Package: GenomicTuples Version: 1.38.0 Command: /Library/Frameworks/R.framework/Resources/bin/R CMD build --keep-empty-dirs --no-resave-data GenomicTuples StartedAt: 2024-06-09 22:07:51 -0400 (Sun, 09 Jun 2024) EndedAt: 2024-06-09 22:08:42 -0400 (Sun, 09 Jun 2024) EllapsedTime: 51.2 seconds RetCode: 0 Status: OK PackageFile: GenomicTuples_1.38.0.tar.gz PackageFileSize: 303.2 KiB