Package: GenomicTuples Version: 1.38.0 Command: /home/biocbuild/R/R-beta-2024-04-15_r86425/bin/R CMD build --keep-empty-dirs --no-resave-data GenomicTuples StartedAt: 2024-05-09 00:32:09 -0000 (Thu, 09 May 2024) EndedAt: 2024-05-09 00:33:13 -0000 (Thu, 09 May 2024) EllapsedTime: 64.1 seconds RetCode: 0 Status: OK PackageFile: GenomicTuples_1.38.0.tar.gz PackageFileSize: 327.6 KiB