Package: GenomicTuples Version: 1.38.0 Command: rm -rf GenomicTuples.buildbin-libdir && mkdir GenomicTuples.buildbin-libdir && F:\biocbuild\bbs-3.19-bioc\R\bin\R.exe CMD INSTALL --build --library=GenomicTuples.buildbin-libdir GenomicTuples_1.38.0.tar.gz StartedAt: 2024-06-27 08:16:36 -0400 (Thu, 27 Jun 2024) EndedAt: 2024-06-27 08:17:35 -0400 (Thu, 27 Jun 2024) EllapsedTime: 58.5 seconds RetCode: 0 Status: OK PackageFile: GenomicTuples_1.38.0.zip PackageFileSize: 1.19 MiB