Package: GeoDiff Version: 1.10.0 Command: /Library/Frameworks/R.framework/Resources/bin/R CMD check --install=check:GeoDiff.install-out.txt --library=/Library/Frameworks/R.framework/Resources/library --no-vignettes --timings GeoDiff_1.10.0.tar.gz StartedAt: 2024-06-10 17:03:21 -0400 (Mon, 10 Jun 2024) EndedAt: 2024-06-10 17:12:01 -0400 (Mon, 10 Jun 2024) EllapsedTime: 519.8 seconds RetCode: 0 Status: OK CheckDir: GeoDiff.Rcheck Warnings: 0