Package: GeoDiff Version: 1.10.0 Command: /Library/Frameworks/R.framework/Resources/bin/R CMD build --keep-empty-dirs --no-resave-data GeoDiff StartedAt: 2024-10-16 19:32:45 -0400 (Wed, 16 Oct 2024) EndedAt: 2024-10-16 19:42:03 -0400 (Wed, 16 Oct 2024) EllapsedTime: 557.8 seconds RetCode: 0 Status: OK PackageFile: GeoDiff_1.10.0.tar.gz PackageFileSize: 4.58 MiB