Package: GeoDiff Version: 1.10.0 Command: E:\biocbuild\bbs-3.19-bioc\R\bin\R.exe CMD INSTALL GeoDiff StartedAt: 2024-10-16 17:22:58 -0400 (Wed, 16 Oct 2024) EndedAt: 2024-10-16 17:24:42 -0400 (Wed, 16 Oct 2024) EllapsedTime: 104.4 seconds RetCode: 0 Status: OK