Package: GeomxTools Version: 3.8.0 Command: /Library/Frameworks/R.framework/Resources/bin/R CMD build --keep-empty-dirs --no-resave-data GeomxTools StartedAt: 2024-10-17 01:14:37 -0400 (Thu, 17 Oct 2024) EndedAt: 2024-10-17 01:21:43 -0400 (Thu, 17 Oct 2024) EllapsedTime: 426.1 seconds RetCode: 0 Status: OK PackageFile: GeomxTools_3.8.0.tar.gz PackageFileSize: 16.99 MiB