Package: GeomxTools Version: 3.8.0 Command: /Library/Frameworks/R.framework/Resources/bin/R CMD INSTALL GeomxTools StartedAt: 2024-10-16 17:17:45 -0400 (Wed, 16 Oct 2024) EndedAt: 2024-10-16 17:18:16 -0400 (Wed, 16 Oct 2024) EllapsedTime: 31.7 seconds RetCode: 0 Status: OK