Package: GeomxTools Version: 3.8.0 Command: /Library/Frameworks/R.framework/Resources/bin/R CMD check --install=check:GeomxTools.install-out.txt --library=/Library/Frameworks/R.framework/Resources/library --no-vignettes --timings GeomxTools_3.8.0.tar.gz StartedAt: 2024-10-17 06:00:18 -0400 (Thu, 17 Oct 2024) EndedAt: 2024-10-17 06:40:19 -0400 (Thu, 17 Oct 2024) EllapsedTime: 2401.0 seconds RetCode: None Status: TIMEOUT CheckDir: GeomxTools.Rcheck Warnings: NA