Package: GeomxTools Version: 3.8.0 Command: rm -rf GeomxTools.buildbin-libdir && mkdir GeomxTools.buildbin-libdir && F:\biocbuild\bbs-3.19-bioc\R\bin\R.exe CMD INSTALL --build --library=GeomxTools.buildbin-libdir GeomxTools_3.8.0.tar.gz StartedAt: 2024-06-27 08:17:03 -0400 (Thu, 27 Jun 2024) EndedAt: 2024-06-27 08:17:58 -0400 (Thu, 27 Jun 2024) EllapsedTime: 54.7 seconds RetCode: 0 Status: OK PackageFile: GeomxTools_3.8.0.zip PackageFileSize: 12.68 MiB