Package: GeomxTools Version: 3.8.0 Command: F:\biocbuild\bbs-3.19-bioc\R\bin\R.exe CMD INSTALL GeomxTools StartedAt: 2024-06-26 16:18:29 -0400 (Wed, 26 Jun 2024) EndedAt: 2024-06-26 16:19:19 -0400 (Wed, 26 Jun 2024) EllapsedTime: 49.7 seconds RetCode: 0 Status: OK