Package: GeomxTools Version: 3.8.0 Command: E:\biocbuild\bbs-3.19-bioc\R\bin\R.exe CMD check --no-multiarch --install=check:GeomxTools.install-out.txt --library=E:\biocbuild\bbs-3.19-bioc\R\library --no-vignettes --timings GeomxTools_3.8.0.tar.gz StartedAt: 2024-10-17 01:54:08 -0400 (Thu, 17 Oct 2024) EndedAt: 2024-10-17 02:18:28 -0400 (Thu, 17 Oct 2024) EllapsedTime: 1459.9 seconds RetCode: 0 Status: OK CheckDir: GeomxTools.Rcheck Warnings: 0