Package: GladiaTOX Version: 1.20.0 Command: /Library/Frameworks/R.framework/Resources/bin/R CMD build --keep-empty-dirs --no-resave-data GladiaTOX StartedAt: 2024-10-16 19:37:49 -0400 (Wed, 16 Oct 2024) EndedAt: 2024-10-16 19:48:13 -0400 (Wed, 16 Oct 2024) EllapsedTime: 624.0 seconds RetCode: 0 Status: OK PackageFile: GladiaTOX_1.20.0.tar.gz PackageFileSize: 3.948 MiB