Package: GladiaTOX Version: 1.20.0 Command: chmod a+r GladiaTOX -R && F:\biocbuild\bbs-3.19-bioc\R\bin\R.exe CMD build --keep-empty-dirs --no-resave-data GladiaTOX StartedAt: 2024-06-26 19:13:41 -0400 (Wed, 26 Jun 2024) EndedAt: 2024-06-26 19:18:55 -0400 (Wed, 26 Jun 2024) EllapsedTime: 314.4 seconds RetCode: 0 Status: OK PackageFile: GladiaTOX_1.20.0.tar.gz PackageFileSize: 2.656 MiB