Package: GmicR Version: 1.18.0 Maintainer: Richard Virgen-Slane MaintainerEmail: RVS.BioTools at gmail.com git_url: https://git.bioconductor.org/packages/GmicR git_branch: RELEASE_3_19 git_last_commit: 58968ed git_last_commit_date: 2024-04-30 11:17:51 -0400 (Tue, 30 Apr 2024)