Package: GmicR Version: 1.18.0 Command: rm -rf GmicR.buildbin-libdir && mkdir GmicR.buildbin-libdir && /Users/biocbuild/BBS/utils/build-universal.sh GmicR_1.18.0.tar.gz /Library/Frameworks/R.framework/Resources/bin/R GmicR.buildbin-libdir StartedAt: 2024-10-17 16:17:11 -0400 (Thu, 17 Oct 2024) EndedAt: 2024-10-17 16:18:23 -0400 (Thu, 17 Oct 2024) EllapsedTime: 72.7 seconds RetCode: 0 Status: OK PackageFile: GmicR_1.18.0.tgz PackageFileSize: 3.552 MiB