Package: GmicR Version: 1.18.0 Command: /Library/Frameworks/R.framework/Resources/bin/R CMD INSTALL GmicR StartedAt: 2024-10-16 16:20:09 -0400 (Wed, 16 Oct 2024) EndedAt: 2024-10-16 16:21:12 -0400 (Wed, 16 Oct 2024) EllapsedTime: 62.7 seconds RetCode: 0 Status: OK