Package: GmicR Version: 1.18.0 Command: /home/biocbuild/bbs-3.19-bioc/R/bin/R CMD build --keep-empty-dirs --no-resave-data GmicR StartedAt: 2024-10-16 18:45:41 -0400 (Wed, 16 Oct 2024) EndedAt: 2024-10-16 18:54:35 -0400 (Wed, 16 Oct 2024) EllapsedTime: 534.0 seconds RetCode: 0 Status: OK PackageFile: GmicR_1.18.0.tar.gz PackageFileSize: 3.457 MiB