Package: GmicR Version: 1.18.0 Command: /home/biocbuild/bbs-3.19-bioc/R/bin/R CMD check --install=check:GmicR.install-out.txt --library=/home/biocbuild/bbs-3.19-bioc/R/site-library --timings GmicR_1.18.0.tar.gz StartedAt: 2024-10-17 01:00:14 -0400 (Thu, 17 Oct 2024) EndedAt: 2024-10-17 01:24:14 -0400 (Thu, 17 Oct 2024) EllapsedTime: 1439.9 seconds RetCode: 0 Status: WARNINGS CheckDir: GmicR.Rcheck Warnings: 1