Package: GmicR Version: 1.18.0 Command: F:\biocbuild\bbs-3.19-bioc\R\bin\R.exe CMD INSTALL GmicR StartedAt: 2024-06-26 16:32:45 -0400 (Wed, 26 Jun 2024) EndedAt: 2024-06-26 16:33:24 -0400 (Wed, 26 Jun 2024) EllapsedTime: 39.2 seconds RetCode: 0 Status: OK