Package: GrafGen Version: 1.0.0 Command: /Library/Frameworks/R.framework/Resources/bin/R CMD build --keep-empty-dirs --no-resave-data GrafGen StartedAt: 2024-10-17 01:46:26 -0400 (Thu, 17 Oct 2024) EndedAt: 2024-10-17 01:47:10 -0400 (Thu, 17 Oct 2024) EllapsedTime: 43.3 seconds RetCode: 0 Status: OK PackageFile: GrafGen_1.0.0.tar.gz PackageFileSize: 3.104 MiB