Package: GrafGen Version: 1.0.0 Command: /Library/Frameworks/R.framework/Resources/bin/R CMD check --install=check:GrafGen.install-out.txt --library=/Library/Frameworks/R.framework/Resources/library --no-vignettes --timings GrafGen_1.0.0.tar.gz StartedAt: 2024-06-10 17:44:10 -0400 (Mon, 10 Jun 2024) EndedAt: 2024-06-10 17:47:42 -0400 (Mon, 10 Jun 2024) EllapsedTime: 212.5 seconds RetCode: 0 Status: OK CheckDir: GrafGen.Rcheck Warnings: 0