Package: GrafGen Version: 1.0.0 Command: rm -rf GrafGen.buildbin-libdir && mkdir GrafGen.buildbin-libdir && /Users/biocbuild/BBS/utils/build-universal.sh GrafGen_1.0.0.tar.gz /Library/Frameworks/R.framework/Resources/bin/R GrafGen.buildbin-libdir StartedAt: 2024-10-17 16:18:24 -0400 (Thu, 17 Oct 2024) EndedAt: 2024-10-17 16:19:35 -0400 (Thu, 17 Oct 2024) EllapsedTime: 70.6 seconds RetCode: 0 Status: OK PackageFile: GrafGen_1.0.0.tgz PackageFileSize: 3.215 MiB