Package: GrafGen Version: 1.0.0 Command: /home/biocbuild/bbs-3.19-bioc/R/bin/R CMD build --keep-empty-dirs --no-resave-data GrafGen StartedAt: 2024-10-16 18:49:12 -0400 (Wed, 16 Oct 2024) EndedAt: 2024-10-16 18:49:46 -0400 (Wed, 16 Oct 2024) EllapsedTime: 34.0 seconds RetCode: 0 Status: OK PackageFile: GrafGen_1.0.0.tar.gz PackageFileSize: 3.056 MiB