Package: GrafGen Version: 1.0.0 Command: rm -rf GrafGen.buildbin-libdir && mkdir GrafGen.buildbin-libdir && F:\biocbuild\bbs-3.19-bioc\R\bin\R.exe CMD INSTALL --build --library=GrafGen.buildbin-libdir GrafGen_1.0.0.tar.gz StartedAt: 2024-06-27 08:19:01 -0400 (Thu, 27 Jun 2024) EndedAt: 2024-06-27 08:19:47 -0400 (Thu, 27 Jun 2024) EllapsedTime: 45.1 seconds RetCode: 0 Status: OK PackageFile: GrafGen_1.0.0.zip PackageFileSize: 3.398 MiB